Workbook

Sheet 1. 월별 지급 계획서
B1: [기업명]_월별 지급 계획서
B2: 작성 체크리스트
B3: 자부담 비율 10% 이상 편성 | D3: 인건비 50% 이상 편성 | E3: 회계검증비
B4: 충족여부 | C4: 자부담 비율 | D4: 충족여부 | E4: VAT 제외
B5: =IF(C5>=0.1, "O", "X") -> O | C5: =ROUND(L37/L38,4) -> 0.1311 | D5: =IF(L20/L38>=0.5,"O","X") -> O | E5: =IFERROR(LOOKUP(L38, '(수정금지) 회계 정산 및 검증 수수료 기준표'!H4:H9, '(수정금지) 회계 정산 및 검증 수수료 기준표'!J4:J9), "") -> 325454.55
B7: 구분 | C7: 이름 | D7: 구분 | E7: 사업비 | F7: 5월 | G7: 6월 | H7: 7월 | I7: 8월 | J7: 9월 | K7: 10월 | L7: 합계
B8: 인건비 | C8: 홍길동 | D8: IT기획자 | E8: 지원금 | F8: 1500000 | G8: 1500000 | H8: 1500000 | I8: 1500000 | L8: =SUM(F8:K8) -> 6000000
E9: 자부담 | L9: =SUM(F9:K9) -> 0
C10: 홍길동 | D10: IT기획자 | E10: 지원금 | L10: =SUM(F10:K10) -> 0
E11: 자부담 | J11: 1000000 | K11: 1000000 | L11: =SUM(F11:K11) -> 2000000
C12: 김철수 | D12: 업무분석가 | E12: 지원금 | F12: 1000000 | G12: 1000000 | H12: 1000000 | I12: 800000 | L12: =SUM(F12:K12) -> 3800000
E13: 자부담 | I13: 200000 | J13: 1000000 | K13: 1000000 | L13: =SUM(F13:K13) -> 2200000
C14: 김영희 | D14: UI/UX기획/개발자 | E14: 지원금 | F14: 1500000 | G14: 1500000 | H14: 1500000 | I14: 1500000 | J14: 1500000 | K14: 1500000 | L14: =SUM(F14:K14) -> 9000000
E15: 자부담 | L15: =SUM(F15:K15) -> 0
E16: 지원금 | L16: =SUM(F16:K16) -> 0
E17: 자부담 | L17: =SUM(F17:K17) -> 0
C18: 소계 | E18: 지원금 | F18: =SUM(F8,F10,F12,F14,F16) -> 4000000 | G18: =SUM(G8,G10,G12,G14,G16) -> 4000000 | H18: =SUM(H8,H10,H12,H14,H16) -> 4000000 | I18: =SUM(I8,I10,I12,I14,I16) -> 3800000 | J18: =SUM(J8,J10,J12,J14,J16) -> 1500000 | K18: =SUM(K8,K10,K12,K14,K16) -> 1500000 | L18: =SUM(F18:K18) -> 18800000 | N18: =SUM(L8,L10,L12,L14,L16) -> 18800000
E19: 자부담 | F19: =SUM(F9,F11,F13,F15,F17) -> 0 | G19: =SUM(G9,G11,G13,G15,G17) -> 0 | H19: =SUM(H9,H11,H13,H15,H17) -> 0 | I19: =SUM(I9,I11,I13,I15,I17) -> 200000 | J19: =SUM(J9,J11,J13,J15,J17) -> 2000000 | K19: =SUM(K9,K11,K13,K15,K17) -> 2000000 | L19: =SUM(F19:K19) -> 4200000 | N19: =SUM(L9,L11,L13,L15,L17) -> 4200000
C20: 합계 | F20: =SUM(F8:F17) -> 4000000 | G20: =SUM(G8:G17) -> 4000000 | H20: =SUM(H8:H17) -> 4000000 | I20: =SUM(I8:I17) -> 4000000 | J20: =SUM(J8:J17) -> 3500000 | K20: =SUM(K8:K17) -> 3500000 | L20: =SUM(F20:K20) -> 23000000 | M20: 열 추가, 삭제 시 수식 확인! | N20: =SUM(L8:L17) -> 23000000
B21: 외주용역비 | C21: DB 전처리 | E21: 지원금 | G21: 0 | K21: 6200000 | L21: =SUM(F21:K21) -> 6200000
E22: 자부담 | K22: 0 | L22: =SUM(F22:K22) -> 0
E23: 지원금 | L23: =SUM(F23:K23) -> 0
E24: 자부담 | L24: =SUM(F24:K24) -> 0
C25: 소계 | E25: 지원금 | F25: =SUM(F21,F23) -> 0 | G25: =SUM(G21,G23) -> 0 | H25: =SUM(H21,H23) -> 0 | I25: =SUM(I21,I23) -> 0 | J25: =SUM(J21,J23) -> 0 | K25: =SUM(K21,K23) -> 6200000 | L25: =SUM(F25:K25) -> 6200000 | N25: =SUM(L21,L23) -> 6200000
E26: 자부담 | F26: =SUM(F22,F24) -> 0 | G26: =SUM(G22,G24) -> 0 | H26: =SUM(H22,H24) -> 0 | I26: =SUM(I22,I24) -> 0 | J26: =SUM(J22,J24) -> 0 | K26: =SUM(K22,K24) -> 0 | L26: =SUM(F26:K26) -> 0 | N26: =SUM(L22,L24) -> 0
C27: 합계 | F27: =SUM(F21:F24) -> 0 | G27: =SUM(G21:G24) -> 0 | H27: =SUM(H21:H24) -> 0 | I27: =SUM(I21:I24) -> 0 | J27: =SUM(J21:J24) -> 0 | K27: =SUM(K21:K24) -> 6200000 | L27: =SUM(F27:K27) -> 6200000 | M27: 열 추가, 삭제 시 수식 확인! | N27: =SUM(L23,L25) -> 6200000
B28: 장비임차비 | C28: 프록시 서버 | E28: 지원금 | F28: 1000000 | G28: 1000000 | H28: 1000000 | I28: 1000000 | J28: 1000000 | K28: 0 | L28: =SUM(F28:K28) -> 5000000
E29: 자부담 | L29: =SUM(F29:K29) -> 0
E30: 지원금 | L30: =SUM(F30:K30) -> 0
E31: 자부담 | L31: =SUM(F31:K31) -> 0
C32: 소계 | E32: 지원금 | F32: =SUM(F28,F30) -> 1000000 | G32: =SUM(G28,G30) -> 1000000 | H32: =SUM(H28,H30) -> 1000000 | I32: =SUM(I28,I30) -> 1000000 | J32: =SUM(J28,J30) -> 1000000 | K32: =SUM(K28,K30) -> 0 | L32: =SUM(F32:K32) -> 5000000
E33: 자부담 | F33: =SUM(F29,F31) -> 0 | G33: =SUM(G29,G31) -> 0 | H33: =SUM(H29,H31) -> 0 | I33: =SUM(I29,I31) -> 0 | J33: =SUM(J29,J31) -> 0 | K33: =SUM(K29,K31) -> 0 | L33: =SUM(F33:K33) -> 0
C34: 합계 | F34: =SUM(F28:F31) -> 1000000 | G34: =SUM(G28:G31) -> 1000000 | H34: =SUM(H28:H31) -> 1000000 | I34: =SUM(I28:I31) -> 1000000 | J34: =SUM(J28:J31) -> 1000000 | K34: =SUM(K28:K31) -> 0 | L34: =SUM(F34:K34) -> 5000000 | M34: 열 추가, 삭제 시 수식 확인!
B35: 회계검증비 | C35: 회계검증비 | E35: 자부담 | K35: 325455 | L35: =SUM(F35:K35) -> 325455
B36: 총계 | E36: 지원금 | F36: =SUM(F18,F25,F32) -> 5000000 | G36: =SUM(G18,G25,G32) -> 5000000 | H36: =SUM(H18,H25,H32) -> 5000000 | I36: =SUM(I18,I25,I32) -> 4800000 | J36: =SUM(J18,J25,J32) -> 2500000 | K36: =SUM(K18,K25,K32) -> 7700000 | L36: =SUM(F36:K36) -> 30000000 | M36: 열 추가, 삭제 시 수식 확인!
E37: 자부담 | F37: =SUM(F19,F26,F33,F35) -> 0 | G37: =SUM(G19,G26,G33,G35) -> 0 | H37: =SUM(H19,H26,H33,H35) -> 0 | I37: =SUM(I19,I26,I33,I35) -> 200000 | J37: =SUM(J19,J26,J33,J35) -> 2000000 | K37: =SUM(K19,K26,K33,K35) -> 2325455 | L37: =SUM(F37:K37) -> 4525455
E38: 총 사업비 | F38: =SUM(F36:F37) -> 5000000 | G38: =SUM(G36:G37) -> 5000000 | H38: =SUM(H36:H37) -> 5000000 | I38: =SUM(I36:I37) -> 5000000 | J38: =SUM(J36:J37) -> 4500000 | K38: =SUM(K36:K37) -> 10025455 | L38: =SUM(L36:L37) -> 34525455
L39: 수정금지!

Sheet 2. 인건비 산출
A1: No | B1: 성명 | C1: 직급 | D1: 구분 | E1: 기준단가 (A) | F1: 월급여 (A') | G1: 참여율 (B) | H1: 참여기간(C) | K1: 인건비 (D=min(A,A')*B*C)
H2: 시작일 | I2: 종료일 | J2: 개월
A3: 1 | B3: 홍길동 | C3: 과장 | D3: ① IT기획자 | E3: =IFERROR(VLOOKUP(D3,'(참고)2025년 적용 SW기술자 평균임금'!$B$9:$C$25,2,FALSE),0) -> 11853218 | F3: 3000000 | G3: 0.5 | H3: 46143 | I3: 46265 | J3: =MONTH(I3)-MONTH(H3)+1 -> 4 | K3: =MIN(E3,F3)*G3*J3 -> 6000000
A4: 2 | B4: 홍길동 | C4: 과장 | D4: ⑦ UI/UX기획/개발자 | E4: =IFERROR(VLOOKUP(D4,'(참고)2025년 적용 SW기술자 평균임금'!$B$9:$C$25,2,FALSE),0) -> 6901660 | F4: 3000000 | G4: 0.33333333 | H4: 46266 | I4: 46326 | J4: =MONTH(I4)-MONTH(H4)+1 -> 2 | K4: =MIN(E4,F4)*G4*J4 -> 2000000
A5: 3 | B5: 김철수 | C5: 대리 | D5: ③ 업무분석가 | E5: =IFERROR(VLOOKUP(D5,'(참고)2025년 적용 SW기술자 평균임금'!$B$9:$C$25,2,FALSE),0) -> 9740667 | F5: 2000000 | G5: 0.5 | H5: 46143 | I5: 46326 | J5: =MONTH(I5)-MONTH(H5)+1 -> 6 | K5: =MIN(E5,F5)*G5*J5 -> 6000000
A6: 4 | B6: 김영희 | C6: 사원 | D6: ⑦ UI/UX기획/개발자 | E6: =IFERROR(VLOOKUP(D6,'(참고)2025년 적용 SW기술자 평균임금'!$B$9:$C$25,2,FALSE),0) -> 6901660 | F6: 3000000 | G6: 0.5 | H6: 46143 | I6: 46326 | J6: =MONTH(I6)-MONTH(H6)+1 -> 6 | K6: =MIN(E6,F6)*G6*J6 -> 9000000
A7: 5 | E7: =IFERROR(VLOOKUP(D7,'(참고)2025년 적용 SW기술자 평균임금'!$B$9:$C$25,2,FALSE),0) -> 0 | J7: =MONTH(I7)-MONTH(H7)+1 -> 1 | K7: =MIN(E7,F7)*G7*J7 -> 0
E8: =IFERROR(VLOOKUP(D8,'(참고)2025년 적용 SW기술자 평균임금'!$B$9:$C$25,2,FALSE),0) -> 0 | J8: =MONTH(I8)-MONTH(H8)+1 -> 1 | K8: =MIN(E8,F8)*G8*J8 -> 0
A9: 합 계 | K9: =SUM(K3:K8) -> 23000000

Sheet (참고)2025년 적용 SW기술자 평균임금
B2: 2026년 적용 SW기술자 평균임금 공표
B4: 통계법 제27조(통계의 공표)에 따라 『2025년 SW기술자 임금실태조사 (통계승인 제375001호)』의 결과로 다음과 같이 SW기술자 평균임금을 공표합니다.
B6: 【SW기술자 평균임금】
F7: (단위: 원)
B8: 구 분 | C8: 월평균임금(M/M) | D8: 일평균임금 (M/D) | E8: 시간평균임금(M/H) | F8: 포함직무
B9: ① IT기획자 | C9: 11853218 | D9: 578206 | E9: 72276
B10: ② IT컨설턴트 | C10: 10707960 | D10: 522340 | E10: 65292 | F10: 정보보호컨설턴트
B11: ③ 업무분석가 | C11: 9740667 | D11: 475154 | E11: 59394
B12: ④ 데이터분석가 | C12: 8499309 | D12: 414600 | E12: 51825
B13: ⑤ IT PM | C13: 10086804 | D13: 492039 | E13: 61505
B14: ⑥ IT아키텍트 | C14: 11103230 | D14: 541621 | E14: 67703 | F14: SW아키텍트, 데이터아키텍트, Infrastructure아키텍트, 데이터베이스아키텍트
B15: ⑦ UI/UX기획/개발자 | C15: 6901660 | D15: 336666 | E15: 42083 | F15: UI/UX기획자, UI/UX개발자
B16: ⑧ UI/UX디자이너 | C16: 5159246 | D16: 251671 | E16: 31459
B17: ⑨ 응용SW개발자 | C17: 7754124 | D17: 378250 | E17: 47281 | F17: 빅데이터개발자, 인공지능개발자
B18: ⑩ 시스템SW개발자 | C18: 5840196 | D18: 284888 | E18: 35611 | F18: 임베디드SW개발자
B19: ⑪ 정보시스템운용자 | C19: 10649117 | D19: 519469 | E19: 64934 | F19: 데이터베이스운용자, NW엔지니어, IT시스템운용자
B20: ⑫ IT지원기술자 | C20: 5170016 | D20: 252196 | E20: 31524
B21: ⑬ IT마케터 | C21: 11793500 | D21: 575293 | E21: 71912 | F21: SW제품기획자, IT서비스기획자, IT기술영업
B22: ⑭ IT품질관리자 | C22: 11042071 | D22: 538638 | E22: 67330
B23: ⑮ IT테스터 | C23: 4053137 | D23: 197714 | E23: 24714
B24: ⑯ IT감리 | C24: 11745154 | D24: 572934 | E24: 71617
B25: ⑰ 정보보안전문가 | C25: 10411680 | D25: 507887 | E25: 63486 | F25: 정보보호관리자, 침해사고대응전문가
B27: <본 평균임금을 SW사업대가 활용시 유의사항> ※ 본 조사결과는 SW사업에서 SW기술자 인건비 평균 값임을 고려하여 활용 가능하며, 수·발주자간 자율적 협의에 의해서도 유연하게 적용할 수 있음 * SW기술자 평균임금은 소프트웨어진흥법 제46조(적정 대가 지급 등) 4항 ‘소프트웨어기술자의 인건비 기준’을 지칭함 * SW기술자 평균임금은 기본급, 제수당, 상여금, 퇴직급여충당금, 법인부담금(4대보험)을 모두 포함한 결과임 * 일평균임금은 월평균임금÷`24년 평균근무일수(20.6일), 시간평균임금은 일평균임금÷8시간 으로 각각 산정함 * 월평균 근무일수는 휴일, 법정공휴일 등을 제외한 업체가 응답한 근무일의 평균이며, 이는 개인의 휴가 사용 여부와는 무관함 * SW기술자 평균임금은 전년 대비 4.2% 증가함 * 25/75 백분위수는 조사된 직무별 임금의 구간, 분포에 대한 참고 값임(백분위수 : 백분위수는 크기가 있는 값들로 이뤄진 자료를 순서대로 나열했을 때 백분율로 나타낸 특정 위치의 값을 이르는 용어이다. 일반적으로 크기가 작은 것부터 나열하여 가장 작은 것을 0, 가장 큰 것을 100으로 한다.)
B29: [시행일] 2025년 1월 1일부터 2025년 12월 31일까지 적용
A31: 2024년 12월 3일
A32: 한국소프트웨어산업협회장

Sheet (참고)직무체계 및 정의
A1: ITSQF 직무체계 및 정의
A3: 번호 | B3: 직종 | C3: 조사용 직무 | D3: ITSQF 직무 | E3: 직무 정의 | F3: 유관직업 예시
A4: 1 | B4: IT컨설팅 및 기획 | C4: IT기획자 | D4: 정보기술기획 | E4: 조직의 경영목표를 달성하기 위하여 IT전략을 기획하고, 거버넌스, 투자성과분석, 운영 정책, R&D, 프로세스, 아키텍처 등 분야 별 전략을 수립하는 일이다. | F4: IT기획, IT 인프라기획, IT전략
A5: 2 | C5: IT컨설턴트 | D5: 정보기술컨설팅 | E5: 조직의 목표를 달성하는데 도움이 될 수 있도록, 객관적인 시각에서 조직 경영 환경을 이해하고 대상 업무 및 정보시스템을 분석하여 개선 방안을 지도, 자문 및 상담을 수행하는 일이다. | F5: IT컨설턴트, IS컨설턴트
D6: 정보보호컨설팅 | E6: 주요 정보자산을 보호하기 위한 관리적, 물리적, 기술적 영역의 보안 요구사항과 사전 정의된 프로세스에 대해 객관적인 충족여부를 검증하고 자문하는 일이다. | F6: 정보보호컨설턴트, 보안 컨설팅, 정보보호컨설팅 컨설턴트
A7: 3 | C7: 업무분석가 | D7: 업무분석 | E7: 조직의 비전과 목표, 구조, 정책 등의 이해를 바탕으로 업무 요구사항을 도출하고 분석1)하여, 목적에 부합하는 대응전략 수립하는 일이다. | F7: 업무분석가, 비즈니스분석가
E9: *타 직무에서 수행하는 분석, 설계 업무의 혼선 방지를 위해 아래의 주석을 표시함 1)분석 : 조직 내·외부의 경영 환경에 영향을 주는 고객과 경쟁기업, 산업동향, 내부 역량을 분석하는 능력
A11: 4 | C11: 데이터분석가 | D11: 데이터분석 | E11: 데이터 이해 및 처리 기술에 대한 기본지식을 바탕으로 데이터 분석 기획, 데이터 분석, 데이터 시각화 업무를 수행하고 이를 통해 프로세스 혁신 및 마케팅 전략 결정 등의 과학적 의사결정을 지원하는 일이다. | F11: 데이터 기획자, 데이터최고책임자(CDO), Search Developer, Data Scientist(과학자), 데이터 분석 전문가, Data Analysis, 데이터 사이언스, 데이터 분석가, 데이터분석/컨설팅, 금융 데이터 분석, 데이터 분석 및 가공, 빅데이터 처리-분석
A12: 5 | B12: IT프로젝트관리 | C12: IT PM | D12: IT프로젝트관리 | E12: IT프로젝트 인도물의 납기 준수를 위하여 프로젝트를 기획하고, 범위, 일정, 원가, 인적자원, 품질, 위험, 의사소통, 조달, 변경, 보안, 정보시스템 성과 등을 통합 관리하는 일이다. | F12: IT PM, Agile Coach, 프로젝트 관리, PL, PM(Project Manager)
A13: 6 | B13: IT아키텍처 | C13: IT아키텍트 | D13: SW아키텍처 | E13: SW의 기능, 성능, 보안 등의 품질을 보장하고 SW를 구성하는 요소와 관계를 분석, 설계하여 전체적인 SW 구조를 체계화하는 일이다. | F13: SW 아키텍트, 솔루션 아키텍트, 웹 아키텍트, 어플리케이션 아키텍트
D14: Infrastructure | E14: 하드웨어, 미들웨어, 네트워크, 클라우드를 포함하는 인프라를 설계, 구성하여 모든 지원들의 적합성 및 신뢰성 있는 서비스를 제공할 수 있도록 체계화하는 일이다. | F14: Infrastructure아키텍트, 네트워크 아키텍트, 시스템 아키텍트, 테크니컬 아키텍트, 클라우드 시스템 엔지니어, 퍼블릭 클라우드 아키텍트
D15: 데이터아키텍처 | E15: 데이터를 구조적 관점에서 설계, 생성, 배치, 관리하며, 다양한 데이터 엔터티뿐만 아니라 해당 데이터를 처리하는 애플리케이션에 의해 데이터가 저장, 소비, 통합 및 관리될 수 있도록 체계화하는 일이다. | F15: 데이터 아키텍트, 데이터 모델러, 데이터베이스 설계자, 데이터베이스 아키텍트, 데이터 설계자, DW설계자, 빅데이터아키텍트, 데이터 기술자, 데이터 전략 수립 담당자
A16: 7 | B16: SW개발 | C16: UI/UX 기획/개발 | D16: UI/UX기획 | E16: 서비스의 본질적 특성에 대한 이해를 기반으로 트렌드 분석, 사용자 이용 행태 분석 등을 통해 이해관계자 및 사용자의 요구를 발굴하고 사용성을 극대화 할 수 있는 UI/UX를 설계 및 검증하여 서비스의 목적과 용도에 맞게 최적화 된 UI를 제공하는 일이다. | F16: UI/UX 기획자, UI/UX분석가, 웹기획자, App 기획자, 모바일 앱서비스 기획자
D17: UI/UX개발 | E17: 사용자의 이용형태 및 기술환경을 분석하여, 사용자 인터페이스(UI/UX)의 기획 및 아키텍처를 구축하고, 프로토타입 검증, 설계 및 구현 과정을 통해 효과적인 UI/UX를 개발하는 일이다. | F17: UI/UX 개발자, 웹퍼블리셔, 퍼블리셔&프론트 개발자, Web&Mobile 퍼블리싱, 홈페이지 웹 퍼블리싱
A18: 8 | C18: UI/UX 디자인 | D18: UI/UX디자인 | E18: UI/UX 디자인의 매체별 트렌드, 사용자 경험 분석을 통해 디자인 전략 및 콘셉트를 도출하고 UI 디자인 요소를 다양한 기법을 활용해 시각화하여 사용자 요구를 검증하고 매체별 최적화된 디자인과 사용성을 제공하는 일이다. | F18: UI/UX 디자이너, 웹디자이너, 그래픽디자이너, 웹콘텐츠 디자이너, UI/UX 설계
A19: 9 | C19: 응용SW개발자 | D19: 응용SW개발 | E19: 컴퓨터 프로그래밍 언어로 응용소프트웨어의 분석1), 설계2), 구현 및 테스트, 배포 등을 통해 제품의 기능을 개발하고 개선하는 일이다. | F19: 응용SW 분석가, 응용SW 설계자, 모바일 개발자, 모바일 앱 개발자, 어플리케이션 개발자, 웹 개발자, 빅데이터 개발자, 인공지능 SW개발자, 하둡기반 빅데이터 분석 시스템 개발, 프론트엔드 개발, 프레임워크/미들웨어/응용 SW개발, 파이썬 웹 서버 개발자, 파이썬 기반 데이터 처리, 클라이언트 프로그래머, 클라이언트 개발, 클라우드 서비스 플랫폼 개발, 정보시스템 개발/운영, 전산시스템 개발, 인공지능 엔지니어, 윈도우 어플리케이션 개발, 웹사이트 유지보수/개발, 웹사이트 서비스 개발, 웹 프론트 개발, 웹 프로그램 유지보수 및 개발, 웹 백엔드 개발, 영상통화 서버 개발, 에너지 데이터 분석 및 개발, 안드로이드 개발자, 솔루션개발 및 구축, 솔루션 엔지니어, 솔루션 개발(웹 개발), 솔루션 개발(서버 개발), 소프트웨어 공학 엔지니어, 서비스 Server 개발, 사업화연계연구개발자, 빅데이터 플랫폼 및 JAVA 개발, 블록체인 기반 서비스개발, 뱅킹 서비스 개발 및 운영, 백엔드 테크니컬 프로그래머, 백엔드 웹 개발, 백엔드 시스템 개발, 백엔드 개발자, 모빌리티 플랫폼 개발, 모바일 프론트 엔드 개발, 모바일 채널 서비스 개발 및 운영, 머신러닝 엔지니어, 메시징 솔루션 개발, 딥러닝/컴퓨터 비전 개발, 딥러닝 응용 어플리케이션 개발, 딥러닝 연구 개발, 딥러닝 네트워크 모델 및 자체 프레임워크 개발, 데브옵스 개발, 금융IT 서비스 개발 및 운영, 검색 서비스 개발, Web Developer, VR/AR 개발, VB 개발자, VAN서비스개발, SW 개발 및 배포, Software Developer, SM 운영 유지보수, SDK 개발자, SAP ERP 구축/운영, Salesforce 개발, RPA 개발, REACT 개발, PYTHON 개발, PHP 웹 개발자, PHP 백엔드 개발자, PHP 및 JAVA 개발, LMS웹사이트 개발(ASP, ASP.net), Javascript Developer, JAVA/JSP 개발, JAVA 웹프로그래머, JAVA 웹개발자, IoT 플랫폼 개발, JAVA 서버/프런트 개발, JAVA 서버/웹 개발, JAVA 개발자, JAVA 개발 및 유지보수, JAVA WEB/Mobile 개발자, Java jsp 프론트엔드/백엔드 개발, IOS앱 개발, IOS, Android 개발, iOS Developer, Front-End 개발자, Front-end Developer, Framework 개발, ERP시스템 개발, ERP 개발 및 유지보수, DW Data Engineer, DevOps 개발, Developer, Deep Learning R&D Engineer, Data Platform Engineer, CRM 솔루션 개발, Cloud 개발, C#/ASP.NET/MVC/JAVA 개발, C# 개발자, Backend Developer, APP 서버개발, Android Developer, AI기반 개인화 추천 시스템 개발 AI 솔루션 연구개발, AI 딥러닝, 머신러닝 개발, AI 기획 및 개발, AI SW/Dataset 개발, AI Platform Engineer, .NET, C3, ASP.NET 개발
E21: *타 직무에서 수행하는 분석, 설계 업무의 혼선 방지를 위해 아래의 주석을 표시함 1)분석 : 구현하고자 하는 애플리케이션의 요구사항을 도출, 분석, 명세화 및 요구사항 검증을 수행하는 능력 2)설계 : 요구사항 확인을 통한 상세분석 결과, SW아키텍쳐 가이드라인 및 SW 아키텍처 산출물에 의거하여 이에 따른 애플리케이션 구현을 수행하기 위해 공통 모듈 설계, 타 시스템 연동에 대하여 상세 설계하는 능력
A22: 10 | B22: SW개발 | C22: 시스템SW개발자 | D22: 시스템SW개발 | E22: 운영체제 환경에서 시스템 자원을 제어 및 관리하는 소프트웨어와 응용프로그램의 동작을 위한 시스템 플랫폼의 요구사항 분석 및 설계, 구현, 배포를 수행하는 일이다. | F22: 시스템SW개발자, 시스템SW분석가, 시스템SW설계자, OS개발자, 시스템 프로그래머
D23: 임베디드SW개발 | E23: 하드웨어 플랫폼에 대한 이해를 바탕으로 플랫폼별 운영체제 이식과 펌웨어, 디바이스 드라이버, 애플리케이션 등의 SW를 개발하고, 하드웨어 플랫폼 최적화를 수행하는 일이다. | F23: 임베디드SW개발자, 임베디드SW분석가, 임베디드SW설계자, 펌웨어 개발자, 임베디드 시스템 개발, HW & 펌웨어 개발, STM32/PIC계열 등 관련 MCU개발, 인버터 펌웨어 개발, 시스템 제어 사양 개발, SW 개발(Device Driver), Embedded OS기반 응용 SW개발, SoC 플랫폼 개발
A24: 11 | B24: 시스템 구축 | C24: 정보시스템 운용자 | D24: 데이터베이스관리 | E24: 데이터에 대한 요구사항으로부터 데이터베이스를 설계, 구축, 전환하고, 최적의 성능과 품질을 확보하도록 추이분석 등을 통하여 데이터베이스를 수정, 개선, 백업하는 등의 업무를 수행하는 일이다. | F24: 데이터베이스 운용자, MSSQL DBA, DBA, 클라우드/DB 관리자, 데이터 엔지니어
D25: NW엔지니어링 | E25: 네트워크 환경을 분석하고 네트워크에 대한 토폴로지, 자원관리, 품질 관리를 설계하고 구성하는 일이다. | F25: NW 엔지니어, NW 구축, NW시스템분석가, NW시스템설계자, NW시스템개발자
D26: IT시스템관리 | E26: 시스템 요구사항을 분석하고 클라우드와 가상화, 시스템과 네트워크 및 스토리지 자원의 HW, SW 서비스 플랫폼을 구축, 운영, 관리하여 안정적 컴퓨팅 인프라 및 정보시스템의 운용을 담당하는 일이다. | F26: IT시스템 운용자, NW운용자, 서버운용자, 웹마스터, 웹 운용자, 정보보안관제원, IS운용자, 빅데이터엔지니어, 서버/스토리지/시스템 운영 SA, 미들웨어 운영 SA, 가상화 서버 운영 SA, 시스템 관제 운영, 시스템 엔지니어, 전산시스템 운영 및 개발, Linux/Windows 시스템운영, 퍼블릭 클라우드 인프라 운영, 클라우드 보안 운영, 빅데이터 플랫폼 엔지니어, VDI 구축/운영, Linux 구축/운영, 인프라담당자, System Engineering Specialist, 시스템 운영 모니터링, 인프라 운영, 미들웨어 운영, 네트워크 운영, 보안관제, 서버/스토리지 Infrastructure 관리, 네트워크 관리, Cloud 시스템 구축/운영, IT-네트워크 운영, 리눅스 엔지니어, 플랫폼 운영, IDC 운영/관리, 서버 엔지니어, 리눅스 구축 및 기술개발, IT 인프라 관리, 시스템 유지보수, 메일/메신저 서버 운영, 클라우드 시스템 운영, MES 시스템 운영
A27: 12 | C27: IT지원기술자 | D27: IT시스템기술지원 | E27: 정보기술 인프라에 대한 이해를 바탕으로 컴퓨터 하드웨어, 스토리지, 클라우드와 가상화, 네트워크 등 IT자원을 이용한 시스템의 구성과 장애처리를 지원하며 시스템 개선 및 정기점검 등을 통해 안정적인 컴퓨팅 인프라 운영을 지원하는 일이다. | F27: 기술지원 엔지니어, IT지원 기술자, 시스템 유지관리 지원기술자, IT헬프데스크 운용자
A28: 13 | B28: IT마케팅 | C28: IT마케터 | D28: SW제품기획 | E28: 기업의 경영전략을 바탕으로, SW 활용분야에 대한 기업 내/외부 환경, 요구 기술, 시장성 등을 분석하여 제품 전략을 수립하고, SW제품의 개발, 지원, 판매, 마케팅 계획을 수립, 운용하는 일이다. | F28: SW제품 기획자, SW솔루션 기획자, Product Designer, Product Manager, Platform 기획
D29: IT서비스기획 | E29: 정보기술 환경 분석을 통해 고객과 시장의 니즈에 맞는 IT서비스를 발굴하고, 제품 및 솔루션 융합으로 새로운 서비스를 기획하는 일이다. | F29: IT서비스 기획자, 웹서비스 기획자, 모바일서비스 기획, 온라인서비스기획, 디지털서비스 기획
D30: IT기술영업 | E30: 정보기술 지식을 바탕으로 고객 관리 및 영업 전략을 수립, 사업기회를 창출하고 요구사항에 적합한 솔루션 제안으로 협상, 계약, 판매 및 사후 관리 등 IT 영업을 수행하는 일이다. | F30: IT기술영업, IT솔루션영업, 소프트웨어 영업, 의료용 디지털 솔루션 영업, 기술영업
A31: 14 | B31: IT품질관리 | C31: IT품질관리자 | D31: IT품질관리 | E31: IT품질목표를 달성하기 위하여 전사적인 품질정책 및 관리체계를 수립하고 품질향상을 위해 교육 및 관리활동 등을 수행하며, 프로젝트 차원에서의 품질보증 활동을 수행하는 일이다. | F31: IT품질관리자, 데이터품질관리자, QA(Quality Assurance), QC(Quality Control), 품질관리(QAM), 게임QA, QA Engineer, 제품 QA, 모바일 QA, 개발 및 라이브 QA, 백엔드 QA
A32: 15 | C32: IT테스터 | D32: IT테스트 | E32: 테스트를 효과적으로 수행하기 위해 필요한 기획, 진단 컨설팅, 계획, 환경구축, 실행, 결함관리, 문서화를 수행하고 관리하는 일이다. | F32: IT테스터, SW테스터, Test Case 개발, 소프트웨어 테스트 엔지니어
A33: 16 | C33: IT감리 | D33: IT감리 | E33: 감리발주자 및 피감리원의 이해관계로부터 독립된 자가 정보시스템의 효율성을 향상시키고 안전성을 확보하기 위하여 제2자의 관점에서 정보시스템의 기획, 구축 및 운영 등에 관한 사항을 종합적으로 점검하고 문제점이 개선 되도록 시정조치사항을 도출하고 확인 하는 일이다. | F33: IT감리원, IT감리사, IS감리원
A34: 17 | B34: 정보보호 | C34: 정보보안전문가 | D34: 정보보호관리 | E34: 조직의 비전과 미션을 수행하기 위하여 정보 자산을 안정적으로 운영하는 데 필요한 보안정책울 수립하고 관련 법제도 준수, 보호관리 활동을 수행하며, 위험관리에 기반한 정보보호 대책을 도출하여 실행토록 관리하는 일이다 | F34: 정보보호 관리자, 정보보호 전문가, 보안관리, 보안기술 기획, 보안관제 기획, 보안운영, 정보보안, 정보보호
D35: 보안사고대응 | E35: 침해사고의 피해확산 방지를 위해 위협정보를 탐지하고, 시스템 복구와 예방 전략을 수립하는 일과 업무 및 서비스에 영향을 준 증거를 확보 후 분석하여 신속하게 대응하는 일이다. | F35: 침해사고 대응전문가, 디지털포렌식 전문가, 모의해킹전문가, 정보보호 진단분석원, IT security Engineer, 보안진단, CERT, 취약점/약성코드 분석

Sheet (수정금지) 회계 정산 및 검증 수수료 기준표
G2: A | H2: B | I2: C | J2: D
B3: 사업규모 | C3: 수수료 | D3: 공급가액 | E3: 부가세 | G3: 0 | I3: 0 | J3: 0
B4: 10백만원 이상 20백만원 미만 | C4: 257000 | D4: =C4/11*10 -> 233636.36 | E4: =C4/11 -> 23363.636 | G4: 20000000 | H4: =I3 -> 0 | I4: =G4-J4-1 -> 19766363 | J4: 233636.36
B5: 20백만원 이상 30백만원 미만 | C5: 303000 | D5: =C5/11*10 -> 275454.55 | E5: =C5/11 -> 27545.455 | G5: 30000000 | H5: =I4 -> 19766363 | I5: =G5-J5-1 -> 29724544 | J5: 275454.55
B6: 30백만원 이상 40백만원 미만 | C6: 358000 | D6: =C6/11*10 -> 325454.55 | E6: =C6/11 -> 32545.455 | G6: 40000000 | H6: =I5 -> 29724544 | I6: =G6-J6-1 -> 39674544 | J6: 325454.55
B7: 40백만원 이상 50백만원 미만 | C7: 422000 | D7: =C7/11*10 -> 383636.36 | E7: =C7/11 -> 38363.636 | G7: 50000000 | H7: =I6 -> 39674544 | I7: =G7-J7-1 -> 49616363 | J7: 383636.36
B8: 50백만원 이상 75백만원 미만 | C8: 549000 | D8: =C8/11*10 -> 499090.91 | E8: =C8/11 -> 49909.091 | G8: 75000000 | H8: =I7 -> 49616363 | I8: =G8-J8-1 -> 74500908 | J8: 499090.91
B9: 75백만원 이상 100백만원 미만 | C9: 714000 | D9: =C9/11*10 -> 649090.91 | E9: =C9/11 -> 64909.091 | G9: 100000000 | H9: =I8 -> 74500908 | I9: =G9-J9-1 -> 99350908 | J9: 649090.91
